BEGIN:VCALENDAR
VERSION:2.0
PRODID:-//ChamberMaster//Event Calendar 2.0//EN
METHOD:PUBLISH
X-PUBLISHED-TTL:P3D
REFRESH-INTERVAL:P3D
CALSCALE:GREGORIAN
BEGIN:VEVENT
DTSTART:20150821T170000Z
DTEND:20150821T220000Z
X-MICROSOFT-CDO-ALLDAYEVENT:FALSE
SUMMARY:B-17 History
DESCRIPTION:Experience History!\n\nJoin us for an unforgettable experience aboard one of the few remaining airwrothy B-17's in the world.
X-ALT-DESC;FMTTYPE=text/html:Experience History!<br />\nJoin us for an unforgettable experience aboard one of the few remaining airwrothy&nbsp\;B-17&#39\;s in the world.
LOCATION:Caldwell Industrial Airport 4814 Linden St.\, Caldwell
UID:e.2335.748
SEQUENCE:3
DTSTAMP:20260421T173351Z
URL:http://business.caldwellchamber.org/events/details/b-17-history-08-21-2015-748
END:VEVENT

END:VCALENDAR
