BEGIN:VCALENDAR
VERSION:2.0
PRODID:-//ChamberMaster//Event Calendar 2.0//EN
METHOD:PUBLISH
X-PUBLISHED-TTL:P3D
REFRESH-INTERVAL:P3D
CALSCALE:GREGORIAN
BEGIN:VEVENT
DTSTART:20150411T190000Z
DTEND:20150411T220000Z
X-MICROSOFT-CDO-ALLDAYEVENT:FALSE
SUMMARY:Big Hero 6
DESCRIPTION:Big Hero 6 at the Caldwell Public Library Event.
X-ALT-DESC;FMTTYPE=text/html:Big Hero 6 at the Caldwell Public Library Event.
LOCATION:1010 Dearborn Street
UID:e.2335.314
SEQUENCE:3
DTSTAMP:20260423T085048Z
URL:http://business.caldwellchamber.org/events/details/big-hero-6-04-11-2015-314
END:VEVENT

END:VCALENDAR
