BEGIN:VCALENDAR
VERSION:2.0
PRODID:-//ChamberMaster//Event Calendar 2.0//EN
METHOD:PUBLISH
X-PUBLISHED-TTL:P3D
REFRESH-INTERVAL:P3D
CALSCALE:GREGORIAN
BEGIN:VEVENT
DTSTART:20150402T004500Z
DTEND:20150402T033000Z
X-MICROSOFT-CDO-ALLDAYEVENT:FALSE
SUMMARY:Bravo! Common Men\, Uncommon Valor
DESCRIPTION:Bravo! Common Men\, Uncommon Valor The 77-day siege of Khe Sanh.\n\nA documentary by Boise filmmaker Ken & Betty Rodgers about the personal  experience of the Vietnam War.\n\n\n\n*Meet men from the film\n\n*Special Guest: Master of Ceremonies Alan Heathcock\n\n*Welcome & Proclamation by Mayor Garrett Nancolas
X-ALT-DESC;FMTTYPE=text/html:Bravo! Common Men\, Uncommon Valor The 77-day siege of Khe Sanh.<br />\nA documentary by Boise filmmaker Ken &amp\; Betty Rodgers about the personal&nbsp\; experience of the Vietnam War.<br />\n<br />\n*Meet men from the film<br />\n*Special Guest: Master of Ceremonies Alan Heathcock<br />\n*Welcome &amp\; Proclamation by Mayor Garrett Nancolas
LOCATION:The College of Idaho Langroise Recital Hall 2112 Cleveland Blvd.\, Caldwell collegeofidaho.edu/sites/default/files/CampusMap/CofICampusMap.pdf
UID:e.2335.41
SEQUENCE:3
DTSTAMP:20260424T064318Z
URL:http://business.caldwellchamber.org/events/details/bravo-common-men-uncommon-valor-04-01-2015-41
END:VEVENT

END:VCALENDAR
