BEGIN:VCALENDAR
VERSION:2.0
PRODID:-//ChamberMaster//Event Calendar 2.0//EN
METHOD:PUBLISH
X-PUBLISHED-TTL:P3D
REFRESH-INTERVAL:P3D
CALSCALE:GREGORIAN
BEGIN:VEVENT
DTSTART:20151001T150000Z
DTEND:20151001T153000Z
X-MICROSOFT-CDO-ALLDAYEVENT:FALSE
SUMMARY:Break the Silence
DESCRIPTION:The Canyon County Domestic Violence Task Force invites you to kick off National Domestic Violence Awareness Month in Canyon County. Please join us as we work to bring an end to domestic violence.\n\n\n\nWear purple to show your suppport!
X-ALT-DESC;FMTTYPE=text/html:<span style="background-color:#DDA0DD\;">The Canyon County Domestic Violence Task Force</span> invites you to kick off National Domestic Violence Awareness Month in Canyon County. Please join us as we work to bring an end to domestic violence.<br />\n<br />\n<span style="background-color:#DDA0DD\;">Wear purple to show your </span><span style="background-color:#DDA0DD\;">suppport</span><span style="background-color:#DDA0DD\;">!</span>
LOCATION:Canyon County Administration Building 111 N. 11th Ave.\, Caldwell (next to CourtHouse)
UID:e.2335.821
SEQUENCE:3
DTSTAMP:20260420T031102Z
URL:http://business.caldwellchamber.org/events/details/break-the-silence-10-01-2015-821
END:VEVENT

END:VCALENDAR
