BEGIN:VCALENDAR
VERSION:2.0
PRODID:-//ChamberMaster//Event Calendar 2.0//EN
METHOD:PUBLISH
X-PUBLISHED-TTL:P3D
REFRESH-INTERVAL:P3D
CALSCALE:GREGORIAN
BEGIN:VEVENT
DTSTART:20260508T000000Z
DTEND:20260508T020000Z
X-MICROSOFT-CDO-ALLDAYEVENT:FALSE
SUMMARY:Canyon County Commissioner: Candidate Forum
DESCRIPTION:The Caldwell Chamber of Commerce\, League of Women Voters of Idaho\, and College of Idaho's Master of Applied Public Policy Department are teaming up to host the Canyon County Commissioner candidate forum for the upcoming Primary Election on May 19th.
X-ALT-DESC;FMTTYPE=text/html:<span style="color: rgb(8\, 8\, 9)\; font-family: &quot\;Segoe UI Historic&quot\;\, &quot\;Segoe UI&quot\;\, Helvetica\, Arial\, sans-serif\; font-size: 15px\;">The Caldwell Chamber of Commerce\, League of Women Voters of Idaho\, and College of Idaho&#39\;s Master of Applied Public Policy Department are teaming up to host the Canyon County Commissioner candidate forum</span>&nbsp\;<span style="color: rgb(8\, 8\, 9)\; font-family: &quot\;Segoe UI Historic&quot\;\, &quot\;Segoe UI&quot\;\, Helvetica\, Arial\, sans-serif\; font-size: 15px\;">for the upcoming Primary Election on May 19th.</span>
LOCATION:Caldwell City Hall Council Chamber
UID:e.2335.7191
SEQUENCE:3
DTSTAMP:20260423T011938Z
URL:http://business.caldwellchamber.org/events/details/canyon-county-commissioner-candidate-forum-7191
END:VEVENT

END:VCALENDAR
