BEGIN:VCALENDAR
VERSION:2.0
PRODID:-//ChamberMaster//Event Calendar 2.0//EN
METHOD:PUBLISH
X-PUBLISHED-TTL:P3D
REFRESH-INTERVAL:P3D
CALSCALE:GREGORIAN
BEGIN:VEVENT
DTSTART:20260507T140000Z
DTEND:20260507T140000Z
X-MICROSOFT-CDO-ALLDAYEVENT:FALSE
SUMMARY:Coffee Connect hosted by West Valley Medical Center
DESCRIPTION:Join us for a warm and energizing morning at our May Coffee Connect\, proudly hosted by West Valley Medical Center. Start your day with fresh coffee\, meaningful conversations\, and a welcoming space to connect with local businesses and community partners.\n\nThis monthly gathering is all about building relationships\, sharing ideas\, and strengthening the Caldwell business community. Whether you are a familiar face or joining us for the first time\, you will feel right at home.\n\nBring your business cards\, your smile\, and your morning enthusiasm. We cannot wait to connect with you.
X-ALT-DESC;FMTTYPE=text/html:<p data-end="501" data-start="244">Join us for a warm and energizing morning at our May Coffee Connect\, proudly hosted by <strong data-end="361" data-start="331">West Valley Medical Center</strong>. Start your day with fresh coffee\, meaningful conversations\, and a welcoming space to connect with local businesses and community partners.</p>\n\n<p data-end="723" data-start="503">This monthly gathering is all about building relationships\, sharing ideas\, and strengthening the Caldwell business community. Whether you are a familiar face or joining us for the first time\, you will feel right at home.</p>\n\n<p data-end="828" data-start="725">Bring your business cards\, your smile\, and your morning enthusiasm. We cannot wait to connect with you.</p>\n
LOCATION:
UID:e.2335.6945
SEQUENCE:3
DTSTAMP:20260421T142003Z
URL:http://business.caldwellchamber.org/events/details/coffee-connect-hosted-by-west-valley-medical-center-6945
END:VEVENT

END:VCALENDAR
