BEGIN:VCALENDAR
VERSION:2.0
PRODID:-//ChamberMaster//Event Calendar 2.0//EN
METHOD:PUBLISH
X-PUBLISHED-TTL:P3D
REFRESH-INTERVAL:P3D
CALSCALE:GREGORIAN
BEGIN:VEVENT
DTSTART:20180401T153000Z
DTEND:20180401T180000Z
X-MICROSOFT-CDO-ALLDAYEVENT:FALSE
SUMMARY:Community Easter Service & Extravaganza Calvary Chapel
DESCRIPTION:Event Name:   Community Easter Service & Extravaganza\n\nLocation:         Calvary Chapel Caldwell\n\nAddress:          911 Everett St\, Caldwell\, ID 83605\n\nDate/Times:    Sunday\, April 1\, 2018 at 9:30 a.m. & 11:30 a.m. & Saturday\, March 31\, 2018 at 7:00 p.m.\n\nContact Name:                       Colleen Kinney\n\nContact Number:                    208-453-9653\n\nContact Email Address:          colleen.office@calvarycaldwell.com\n\nContact Website:                    www.calvarycaldwell.com\n\n \n\nDescription: Calvary Chapel Caldwell invites you to our Community Easter Service Sunday & Extravaganza.  This special service will feature the musical drama\, "This is Love"\, a free BBQ after first and second services as well as candy\, face painting and a bounce house for the kids.  Free lattes and Italian sodas for all first time visitors.  Come celebrate Easter with us!
X-ALT-DESC;FMTTYPE=text/html:<span style="font-family:arial\,sans-serif\;">Event Name: &nbsp\; Community Easter Service &amp\; Extravaganza</span><br />\n<span style="font-family:arial\,sans-serif\;">Location: &nbsp\;&nbsp\;&nbsp\;&nbsp\;&nbsp\;&nbsp\;&nbsp\; Calvary Chapel Caldwell</span><br />\n<span style="font-family:arial\,sans-serif\;">Address: &nbsp\;&nbsp\;&nbsp\;&nbsp\;&nbsp\;&nbsp\;&nbsp\;&nbsp\; 911 Everett St\, Caldwell\, ID 83605</span><br />\n<span style="font-family:arial\,sans-serif\;">Date/Times: &nbsp\;&nbsp\; Sunday\, April 1\, 2018 at 9:30 a.m. &amp\; 11:30 a.m. &amp\; Saturday\, March 31\, 2018 at 7:00 p.m.</span><br />\n<span style="font-family:arial\,sans-serif\;">Contact Name: &nbsp\;&nbsp\;&nbsp\;&nbsp\;&nbsp\;&nbsp\;&nbsp\;&nbsp\;&nbsp\;&nbsp\;&nbsp\;&nbsp\;&nbsp\;&nbsp\;&nbsp\;&nbsp\;&nbsp\;&nbsp\;&nbsp\;&nbsp\;&nbsp\; Colleen Kinney</span><br />\n<span style="font-family:arial\,sans-serif\;">Contact Number: &nbsp\;&nbsp\;&nbsp\;&nbsp\;&nbsp\;&nbsp\;&nbsp\;&nbsp\;&nbsp\;&nbsp\;&nbsp\;&nbsp\;&nbsp\;&nbsp\;&nbsp\;&nbsp\;&nbsp\;&nbsp\; <a href="tel:(208)%20453-9653" target="_blank">208-453-9653</a></span><br />\n<span style="font-family:arial\,sans-serif\;">Contact Email Address:&nbsp\;&nbsp\;&nbsp\;&nbsp\;&nbsp\;&nbsp\;&nbsp\;&nbsp\;&nbsp\; </span><a href="mailto:colleen.office@calvarycaldwell.com" target="_blank"><span style="font-family:arial\,sans-serif\;">colleen.office@calvarycaldwell.com</span></a><br />\n<span style="font-family:arial\,sans-serif\;">Contact Website:&nbsp\;&nbsp\;&nbsp\;&nbsp\;&nbsp\;&nbsp\;&nbsp\;&nbsp\;&nbsp\;&nbsp\;&nbsp\;&nbsp\;&nbsp\;&nbsp\;&nbsp\;&nbsp\;&nbsp\;&nbsp\;&nbsp\; </span><a href="http://www.calvarycaldwell.com" target="_blank"><span style="font-family:arial\,sans-serif\;">www.calvarycaldwell.com</span></a><br />\n&nbsp\;<br />\n<span style="font-family:arial\,sans-serif\;">Description: Calvary Chapel Caldwell invites you to our Community Easter Service Sunday &amp\; Extravaganza.&nbsp\; This special service will feature the musical drama\, &ldquo\;This is Love&rdquo\;\, a free BBQ after first and second services as well as candy\, face painting and a bounce house for the kids.&nbsp\; Free lattes and Italian sodas for all first time visitors.&nbsp\; Come celebrate Easter with us!</span>
LOCATION:
UID:e.2335.2998
SEQUENCE:3
DTSTAMP:20260422T105942Z
URL:http://business.caldwellchamber.org/events/details/community-easter-service-extravaganza-calvary-chapel-2998
END:VEVENT

END:VCALENDAR
