BEGIN:VCALENDAR
VERSION:2.0
PRODID:-//ChamberMaster//Event Calendar 2.0//EN
METHOD:PUBLISH
X-PUBLISHED-TTL:P3D
REFRESH-INTERVAL:P3D
CALSCALE:GREGORIAN
BEGIN:VEVENT
DTSTART:20150819T233000Z
DTEND:20150823T013000Z
X-MICROSOFT-CDO-ALLDAYEVENT:FALSE
SUMMARY:Kiwanis Chuck Wagon
DESCRIPTION:The 65th Annual Major fund raising event of the Caldwell Kiwanis Club for service to the community -- truly "a round-up of old friends!"
X-ALT-DESC;FMTTYPE=text/html:The 65th Annual Major fund raising event of the Caldwell Kiwanis Club for service to the community -- truly &quot\;a round-up of old friends!&quot\;<br />\n&nbsp\;
LOCATION:Dakan Park on the corner of Everett & Kimball
UID:e.2335.101
SEQUENCE:3
DTSTAMP:20260421T082834Z
URL:http://business.caldwellchamber.org/events/details/kiwanis-chuck-wagon-08-19-2015-101
END:VEVENT

END:VCALENDAR
