BEGIN:VCALENDAR
VERSION:2.0
PRODID:-//ChamberMaster//Event Calendar 2.0//EN
METHOD:PUBLISH
X-PUBLISHED-TTL:P3D
REFRESH-INTERVAL:P3D
CALSCALE:GREGORIAN
BEGIN:VEVENT
DTSTART:20260501T003000Z
DTEND:20260501T023000Z
X-MICROSOFT-CDO-ALLDAYEVENT:FALSE
SUMMARY:Legislative District 11: Candidate Forum
DESCRIPTION:The Caldwell Chamber of Commerce\, League of Women Voters of Idaho\, and College of Idaho's Master of Applied Public Policy Department are teaming up to host the Legislative District 11 candidate forum for the upcoming Primary Election on May 19th.
X-ALT-DESC;FMTTYPE=text/html:<div class="xdj266r x14z9mp xat24cr x1lziwak x1vvkbs" style="margin-inline: 0px\; overflow-wrap: break-word\; margin-bottom: 0px\; margin-top: 0px\; font-family: &quot\;Segoe UI Historic&quot\;\, &quot\;Segoe UI&quot\;\, Helvetica\, Arial\, sans-serif\; color: rgb(8\, 8\, 9)\; font-size: 15px\;">The Caldwell Chamber of Commerce\, League of Women Voters of Idaho\, and College of Idaho&#39\;s Master of Applied Public Policy Department are teaming up to host the Legislative District 11 candidate forum&nbsp\;for the upcoming Primary Election on May 19th.</div>\n
LOCATION:Caldwell City Hall Council Chamber
UID:e.2335.7190
SEQUENCE:3
DTSTAMP:20260423T011946Z
URL:http://business.caldwellchamber.org/events/details/legislative-district-11-candidate-forum-7190
END:VEVENT

END:VCALENDAR
