BEGIN:VCALENDAR
VERSION:2.0
PRODID:-//ChamberMaster//Event Calendar 2.0//EN
METHOD:PUBLISH
X-PUBLISHED-TTL:P3D
REFRESH-INTERVAL:P3D
CALSCALE:GREGORIAN
BEGIN:VEVENT
DTSTART:20150418T180000Z
DTEND:20150418T230000Z
X-MICROSOFT-CDO-ALLDAYEVENT:FALSE
SUMMARY:Let's Move Event
DESCRIPTION:The City of Caldwell is sponsoring a "Let's Move" fun day with a variety of activities to get kids and families out and "moving." Free activities will be held at various parks and recreation buildings in Caldwell for families to stop by and particpate.
X-ALT-DESC;FMTTYPE=text/html:The City of Caldwell is sponsoring a &quot\;Let&#39\;s Move&quot\; fun day with a variety of activities to get kids and families out and &quot\;moving.&quot\; Free activities will be held at various parks and recreation buildings in Caldwell for families to stop by and particpate.
LOCATION:Caldwell Parks ~ see Poster
UID:e.2335.313
SEQUENCE:3
DTSTAMP:20260421T173322Z
URL:http://business.caldwellchamber.org/events/details/let-s-move-event-04-18-2015-313
END:VEVENT

END:VCALENDAR
