BEGIN:VCALENDAR
VERSION:2.0
PRODID:-//ChamberMaster//Event Calendar 2.0//EN
METHOD:PUBLISH
X-PUBLISHED-TTL:P3D
REFRESH-INTERVAL:P3D
CALSCALE:GREGORIAN
BEGIN:VEVENT
DTSTART:20160129T143000Z
DTEND:20160129T163000Z
X-MICROSOFT-CDO-ALLDAYEVENT:FALSE
SUMMARY:New Member Reception
DESCRIPTION:Join us for our New Member Reception. Meet the Caldwell Chamber staff\, Ambassadors and Board of Directors. You will get to introduce your business and enjoy breakfast.
X-ALT-DESC;FMTTYPE=text/html:Join us for our New Member Reception. Meet the Caldwell Chamber staff\, Ambassadors and Board of Directors. You will get to introduce your business and enjoy breakfast.
LOCATION:Caldwell Chamber of Commerce 704 Blaine St.\, Caldwell
UID:e.2335.888
SEQUENCE:3
DTSTAMP:20260421T111715Z
URL:http://business.caldwellchamber.org/events/details/new-member-reception-01-29-2016-888
END:VEVENT

END:VCALENDAR
