BEGIN:VCALENDAR
VERSION:2.0
PRODID:-//ChamberMaster//Event Calendar 2.0//EN
METHOD:PUBLISH
X-PUBLISHED-TTL:P3D
REFRESH-INTERVAL:P3D
CALSCALE:GREGORIAN
BEGIN:VEVENT
DTSTART:20261110T183000Z
DTEND:20261110T200000Z
X-MICROSOFT-CDO-ALLDAYEVENT:FALSE
SUMMARY:Noon Break Lunch\, Honoring the Farm Family of the Year\, hosted by Nampa-Caldwell Agri Business Committee\, sponsored by Crookham Co\, Nov 10th
DESCRIPTION:Join us in November as we celebrate one of Caldwell's most cherished traditions\, recognizing our Farm Family of the Year. This special Noon Break Lunch is sponsored by Crookham Company and hosted by the Nampa-Caldwell Agri-Business Committee\, bringing our community together to honor the hardworking families who help feed and sustain our region.\n\nDuring this luncheon\, we will highlight the dedicated family selected for this year's award\, share their story\, and acknowledge their leadership\, innovation\, and contributions to local agriculture. It's an inspiring opportunity to connect with the people who help keep our agricultural heritage strong.\n\nCelebrate the heart of our community\, the families who farm our future.
X-ALT-DESC;FMTTYPE=text/html:<p data-end="504" data-start="145">Join us in November as we celebrate one of Caldwell&rsquo\;s most cherished traditions\, recognizing our <strong data-end="270" data-start="243">Farm Family of the Year</strong>. This special Noon Break Lunch is <strong data-end="338" data-start="305">sponsored by Crookham Company</strong> and <strong data-end="399" data-start="343">hosted by the Nampa-Caldwell Agri-Business Committee</strong>\, bringing our community together to honor the hardworking families who help feed and sustain our region.</p>\n\n<p data-end="808" data-start="506">During this luncheon\, we will highlight the dedicated family selected for this year&rsquo\;s award\, share their story\, and acknowledge their leadership\, innovation\, and contributions to local agriculture. It&rsquo\;s an inspiring opportunity to connect with the people who help keep our agricultural heritage strong.</p>\n\n<p data-end="889" data-start="810"><strong data-end="889" data-start="813">Celebrate the heart of our community\, the families who farm our future.</strong></p>\n\n<p>&nbsp\;</p>\n
LOCATION:Simplot Dining Hall\, College of Idaho\, 2112 Cleveland Blvd.\, Caldwell
UID:e.2335.6724
SEQUENCE:3
DTSTAMP:20260423T064444Z
URL:http://business.caldwellchamber.org/events/details/noon-break-lunch-honoring-the-farm-family-of-the-year-hosted-by-nampa-caldwell-agri-business-committee-sponsored-by-crookham-co-nov-10th-6724
END:VEVENT

END:VCALENDAR
