BEGIN:VCALENDAR
VERSION:2.0
PRODID:-//ChamberMaster//Event Calendar 2.0//EN
METHOD:PUBLISH
X-PUBLISHED-TTL:P3D
REFRESH-INTERVAL:P3D
CALSCALE:GREGORIAN
BEGIN:VEVENT
DTSTART:20261013T173000Z
DTEND:20261013T190000Z
X-MICROSOFT-CDO-ALLDAYEVENT:FALSE
SUMMARY:Noon Break Lunch\, hosting open\, Oct 13th
DESCRIPTION:Host Our Next Noon Break Lunch!\n\nThis month's Noon Break Lunch is currently open for hosting  and we'd love to feature your business as our spotlight partner! These lunches fill quickly\, and hosting is one of the most valuable ways to showcase what you do to the Caldwell business community.\n\nAs the host\, you'll enjoy the opportunity to:\n\n\n	\n	Share your services and mission with business leaders\, community partners\, and potential clients.\n	\n	\n	Build meaningful relationships face-to-face with decision makers.\n	\n	\n	Increase visibility through Chamber promotion before\, during\, and after the event.\n	\n\n\n\n\nIf you've been thinking about getting your brand in front of our local business network   now is the time.\n\nContact the Caldwell Chamber today to claim your Noon Break Lunch!\n\nBe the business that brings us together\, starts the conversation\, and grows community through connection.
X-ALT-DESC;FMTTYPE=text/html:<h3 data-end="130" data-start="91"><strong data-end="130" data-start="95">Host Our Next Noon Break Lunch!</strong></h3>\n\n<p data-end="397" data-start="132">This month&rsquo\;s <strong data-end="165" data-start="145">Noon Break Lunch</strong> is currently open for hosting&nbsp\; and we&rsquo\;d love to feature <em data-end="238" data-start="223">your business</em> as our spotlight partner! These lunches fill quickly\, and hosting is one of the most valuable ways to showcase what you do to the Caldwell business community.</p>\n\n<p data-end="444" data-start="399">As the host\, you&rsquo\;ll enjoy the opportunity to:</p>\n\n<ul data-end="709" data-start="445">\n	<li data-end="548" data-start="445">\n	<p data-end="548" data-start="447"><strong data-end="482" data-start="447">Share your services and mission</strong> with business leaders\, community partners\, and potential clients.</p>\n	</li>\n	<li data-end="620" data-start="549">\n	<p data-end="620" data-start="551"><strong data-end="585" data-start="551">Build meaningful relationships</strong> face-to-face with decision makers.</p>\n	</li>\n	<li data-end="709" data-start="621">\n	<p data-end="709" data-start="623"><strong data-end="646" data-start="623">Increase visibility</strong> through Chamber promotion before\, during\, and after the event.</p>\n	</li>\n</ul>\n\n<p data-end="889" data-start="711"><br data-end="779" data-start="776" />\nIf you&rsquo\;ve been thinking about getting your brand in front of our local business network &mdash\; <strong data-end="889" data-start="869">now is the time.</strong></p>\n\n<p data-end="1072" data-start="891"><strong data-end="964" data-start="894">Contact the Caldwell Chamber today to claim your Noon Break Lunch!</strong><br data-end="967" data-start="964" />\nBe the business that brings us together\, starts the conversation\, and grows community through connection.</p>\n\n<p>&nbsp\;</p>\n
LOCATION:Simplot Dining Hall\, College of Idaho\, 2112 Cleveland Blvd.\, Caldwell
UID:e.2335.6723
SEQUENCE:3
DTSTAMP:20260423T050712Z
URL:http://business.caldwellchamber.org/events/details/noon-break-lunch-hosting-open-oct-13th-6723
END:VEVENT

END:VCALENDAR
