BEGIN:VCALENDAR
VERSION:2.0
PRODID:-//ChamberMaster//Event Calendar 2.0//EN
METHOD:PUBLISH
X-PUBLISHED-TTL:P3D
REFRESH-INTERVAL:P3D
CALSCALE:GREGORIAN
BEGIN:VEVENT
DTSTART:20260609T173000Z
DTEND:20260609T190000Z
X-MICROSOFT-CDO-ALLDAYEVENT:FALSE
SUMMARY:Noon Break Lunch & Leadership Caldwell Graduation Hosted by DL Evans Bank
DESCRIPTION:Join us for a special June Noon Break Lunch as we celebrate the graduation of this year's Leadership Caldwell class! This luncheon honors the individuals who have dedicated nine months to growing as community leaders\, exploring local industries\, and building stronger connections within the Caldwell area.\n\nCome help us recognize their accomplishments\, hear highlights from their journey\, and welcome our newest group of graduates into the network of Leadership Caldwell alumni. This is a wonderful opportunity to show support\, meet emerging leaders\, and witness the impact this program continues to make in our community.
X-ALT-DESC;FMTTYPE=text/html:<p data-end="451" data-start="138"><span style="font-family:verdana\;"><span style="font-size:16px\;">Join us for a special <strong data-end="185" data-start="160">June Noon Break Lunch</strong> as we celebrate the graduation of this year&rsquo\;s <strong data-end="261" data-start="232">Leadership Caldwell class</strong>! This luncheon honors the individuals who have dedicated nine months to growing as community leaders\, exploring local industries\, and building stronger connections within the Caldwell area.</span></span></p>\n\n<p data-end="768" data-start="453"><span style="font-family:verdana\;"><span style="font-size:16px\;">Come help us recognize their accomplishments\, hear highlights from their journey\, and welcome our newest group of graduates into the network of Leadership Caldwell alumni. This is a wonderful opportunity to show support\, meet emerging leaders\, and witness the impact this program continues to make in our community.</span></span></p>\n\n<p>&nbsp\;</p>\n
LOCATION:Simplot Dining Hall\, College of Idaho\, 2112 Cleveland Blvd.\, Caldwell
UID:e.2335.6719
SEQUENCE:3
DTSTAMP:20260420T192056Z
URL:http://business.caldwellchamber.org/events/details/noon-break-lunch-leadership-caldwell-graduation-hosted-by-dl-evans-bank-6719
END:VEVENT

END:VCALENDAR
