BEGIN:VCALENDAR
VERSION:2.0
PRODID:-//ChamberMaster//Event Calendar 2.0//EN
METHOD:PUBLISH
X-PUBLISHED-TTL:P3D
REFRESH-INTERVAL:P3D
CALSCALE:GREGORIAN
BEGIN:VEVENT
DTSTART:20150911T223000Z
DTEND:20150912T023000Z
X-MICROSOFT-CDO-ALLDAYEVENT:FALSE
SUMMARY:Northwest Custom Design
DESCRIPTION:Please join us for our Open House & Ribbon Cutting at our new location.We want to know how you play...so bring out your toys and show them off. UTV's\, boats\, dirt bikes\, mountain bikes...\n\n(whatever you do to unplug we wanna know)\n\nEveryone who participates by bringing something involving their sport will receive a free "Adventures in Idaho" T-shirt and will be entered into a special drawing.\n\nWe understand that not everyone will be able to participate\, so we will have a drawing for those who just show up.\n\n*Soda\n\n*Water\n\n*Chips\n\n*Hot dogs
X-ALT-DESC;FMTTYPE=text/html:Please join us for our Open House &amp\; Ribbon Cutting at our new location.We want to know how you play...so bring out your toys and show them off. UTV&#39\;s\, boats\, dirt bikes\, mountain bikes...<br />\n(whatever you do to unplug we wanna know)<br />\nEveryone who participates by bringing something involving their sport will receive a free &quot\;Adventures in Idaho&quot\; T-shirt and will be entered into a special drawing.<br />\nWe understand that not everyone will be able to participate\, so we will have a drawing for those who just show up.<br />\n*Soda<br />\n*Water<br />\n*Chips<br />\n*Hot dogs
LOCATION:NWC Design 3801 Arthur St. Ste. A\, Caldwell
UID:e.2335.776
SEQUENCE:3
DTSTAMP:20260421T002551Z
URL:http://business.caldwellchamber.org/events/details/northwest-custom-design-09-11-2015-776
END:VEVENT

END:VCALENDAR
