BEGIN:VCALENDAR
VERSION:2.0
PRODID:-//ChamberMaster//Event Calendar 2.0//EN
METHOD:PUBLISH
X-PUBLISHED-TTL:P3D
REFRESH-INTERVAL:P3D
CALSCALE:GREGORIAN
BEGIN:VEVENT
DTSTART:20151202T020000Z
DTEND:20151202T040000Z
X-MICROSOFT-CDO-ALLDAYEVENT:FALSE
SUMMARY:Nutcracker & Clara's Tea Party
DESCRIPTION:Eugene Ballet's Nutcracker:\n\nThe Nutcracker brings the holiday spirit into focus\, transporting you through Clara's dreams and the wondrous characters she encounters along the way. With the Sugar Plum Fairy and her Cavalier as guides\, you'll fly away to the Snow Kingdom and the Land of the Sweets\, but not before battling the Mouse King and his pirate henchmice! Toni Pimble's exquisite choreography and Don Carson's colorful and magical sets compliment Tchaikovsky's glorious music to create the perfect holiday tradition.
X-ALT-DESC;FMTTYPE=text/html:Eugene Ballet&#39\;s Nutcracker:<br />\nThe Nutcracker brings the holiday spirit into focus\, transporting you through Clara&#39\;s dreams and the wondrous characters she encounters along the way. With the Sugar Plum Fairy and her Cavalier as guides\, you&#39\;ll fly away to the Snow Kingdom and the Land of the Sweets\, but not before battling the Mouse King and his pirate henchmice! Toni Pimble&#39\;s exquisite choreography and Don Carson&#39\;s colorful and magical sets compliment Tchaikovsky&#39\;s glorious music to create the perfect holiday tradition.
LOCATION:Jewett Auditorium 2112 Cleveland Blvd.\, Caldwell
UID:e.2335.795
SEQUENCE:3
DTSTAMP:20260421T102027Z
URL:http://business.caldwellchamber.org/events/details/nutcracker-clara-s-tea-party-12-01-2015-795
END:VEVENT

END:VCALENDAR
