BEGIN:VCALENDAR
VERSION:2.0
PRODID:-//ChamberMaster//Event Calendar 2.0//EN
METHOD:PUBLISH
X-PUBLISHED-TTL:P3D
REFRESH-INTERVAL:P3D
CALSCALE:GREGORIAN
BEGIN:VEVENT
DTSTART:20150603T160000Z
DTEND:20150603T220000Z
X-MICROSOFT-CDO-ALLDAYEVENT:FALSE
SUMMARY:Pricing Your Export Sales
DESCRIPTION:This program will cover:\n\nHow to determine exporting costs\n\nHow to adjust pricing to maintain profit on exported goods\n\nHow to determine funding needs & break-even pricing\n\n\n\nHave you just started exporting? Are you considering it? Then this workshop is for you! Companies new to exporting\, and even some experienced exporters often struggle to identify the various fees and expenses when selling their products aboard. Lean what these costs are\,a s well as how and when they are incurred allowing you to protect your investment and achieve your company's profit margin.\n\n\n\nJoin the Idaho District Export Council on June 3\, 2015 to learn how international transportation\, financing\, and payment methods impact your company's bottom line.
X-ALT-DESC;FMTTYPE=text/html:<span style="font-size:14px\;"><strong>This program will cover:</strong></span><br />\nHow to determine exporting costs<br />\nHow to adjust pricing to maintain profit on exported goods<br />\nHow to determine funding needs &amp\; break-even pricing<br />\n<br />\nHave you just started exporting? Are you considering it? Then this workshop is for you! Companies new to exporting\, and even some experienced exporters often struggle to identify the various fees and expenses when selling their products aboard. Lean what these costs are\,a s well as how and when they are incurred allowing you to protect your investment and achieve your company&#39\;s profit margin.<br />\n<br />\nJoin the Idaho District Export Council on June 3\, 2015 to learn how international transportation\, financing\, and payment methods impact your company&#39\;s bottom line.<br />\n<br />\n&nbsp\;
LOCATION:Zions Bank 800 W. Main St.\, 17th Floor\, Boise
UID:e.2335.663
SEQUENCE:3
DTSTAMP:20260422T024233Z
URL:http://business.caldwellchamber.org/events/details/pricing-your-export-sales-06-03-2015-663
END:VEVENT

END:VCALENDAR
