BEGIN:VCALENDAR
VERSION:2.0
PRODID:-//ChamberMaster//Event Calendar 2.0//EN
METHOD:PUBLISH
X-PUBLISHED-TTL:P3D
REFRESH-INTERVAL:P3D
CALSCALE:GREGORIAN
BEGIN:VEVENT
DTSTART:20151119T170000Z
DTEND:20151119T220000Z
X-MICROSOFT-CDO-ALLDAYEVENT:FALSE
SUMMARY:Share the Day
DESCRIPTION:Please join us to celebrate our 13th Annual Share the Day dinner! We will have a FREE Thanksgiving dinner as well as FREE hair cuts\, medical screenings\, books\, food boxes\, coats and other resources. The resources and services are provided for homeless and low-income families and individuals. A Thanksgiving Dinner will be served from 11:30am to 2:00pm. All other services will be offered from 10:00am until 3:00pm (or until supplies last).
X-ALT-DESC;FMTTYPE=text/html:Please join us to celebrate our 13th Annual Share the Day dinner! We will have a FREE Thanksgiving dinner as well as FREE hair cuts\, medical screenings\, books\, food boxes\, coats and other resources. The resources and services are provided for homeless and low-income families and individuals. A Thanksgiving Dinner will be served from 11:30am to 2:00pm. All other services will be offered from 10:00am until 3:00pm (or until supplies last).
LOCATION:Nampa First Christian Church\, 619 12th Avenue South\, Nampa\, ID 83651
UID:e.2335.842
SEQUENCE:3
DTSTAMP:20260421T052408Z
URL:http://business.caldwellchamber.org/events/details/share-the-day-11-19-2015-842
END:VEVENT

END:VCALENDAR
