BEGIN:VCALENDAR
VERSION:2.0
PRODID:-//ChamberMaster//Event Calendar 2.0//EN
METHOD:PUBLISH
X-PUBLISHED-TTL:P3D
REFRESH-INTERVAL:P3D
CALSCALE:GREGORIAN
BEGIN:VEVENT
DTSTART:20260620T160000Z
DTEND:20260620T180000Z
X-MICROSOFT-CDO-ALLDAYEVENT:FALSE
SUMMARY:Touch-A-Truck
DESCRIPTION:Big trucks. Bigger smiles. ?? Our FREE annual TOUCH-A-TRUCK event is back and it's rolling into our parking lot on June 20th from 10am 12pm! Let your little ones climb\, honk\, and explore all kinds of incredible vehicles from around the valley. It's a hands-on adventure they'll be talking about all summer! ?? Heads up: For children and visitors with noise sensitivity\, ear protection is strongly recommended. ??
X-ALT-DESC;FMTTYPE=text/html:Big trucks. Bigger smiles. ?? Our FREE annual TOUCH-A-TRUCK event is back and it&#39\;s rolling into our parking lot on June 20th from 10am&ndash\;12pm! Let your little ones climb\, honk\, and explore all kinds of incredible vehicles from around the valley. It&#39\;s a hands-on adventure they&#39\;ll be talking about all summer! ?? Heads up: For children and visitors with noise sensitivity\, ear protection is strongly recommended. ??
LOCATION:The Children's Museum of Idaho 790 S Progress Ave Meridian\, ID 83642
UID:e.2335.7192
SEQUENCE:3
DTSTAMP:20260424T223618Z
URL:http://business.caldwellchamber.org/events/details/touch-a-truck-06-20-2026-7192
END:VEVENT

END:VCALENDAR
