BEGIN:VCALENDAR
VERSION:2.0
PRODID:-//ChamberMaster//Event Calendar 2.0//EN
METHOD:PUBLISH
X-PUBLISHED-TTL:P3D
REFRESH-INTERVAL:P3D
CALSCALE:GREGORIAN
BEGIN:VEVENT
DTSTART;VALUE=DATE:20190919
DTEND;VALUE=DATE:20190922
TRANSP:TRANSPARENT
X-MICROSOFT-CDO-ALLDAYEVENT:TRUE
SUMMARY:17th Annual Indian Creek Festival
DESCRIPTION:Full event schedule will be available in early August.
X-ALT-DESC;FMTTYPE=text/html:Full event schedule will be available in early August.
LOCATION:Indian Creek Plaza 120 S Kimball Ave. Caldwell\, ID 83605
UID:e.2335.5100
SEQUENCE:3
DTSTAMP:20260423T205523Z
URL:https://business.caldwellchamber.org/events/details/17th-annual-indian-creek-festival-5100
END:VEVENT

END:VCALENDAR
