BEGIN:VCALENDAR
VERSION:2.0
PRODID:-//ChamberMaster//Event Calendar 2.0//EN
METHOD:PUBLISH
X-PUBLISHED-TTL:P3D
REFRESH-INTERVAL:P3D
CALSCALE:GREGORIAN
BEGIN:VEVENT
DTSTART:20170112T190000Z
DTEND:20170112T200000Z
X-MICROSOFT-CDO-ALLDAYEVENT:FALSE
SUMMARY:2017 Marketing Trends Webinar w/ Rhea Allen
DESCRIPTION:Industry expert Rhea Allen reviews the top 20 marketing trends\, insights and predictions for 2017 at this exclusive webinar. What are you missing in your 2017 marketing plan? Are you measuring the right numbers? Prioritizing effectively? Whatever your marketing goal\, whether it be to increase sales or just increase brand awareness\, fill in the pieces in this insightful webinar. Not even sure what to focus on? Let us help get you on track fast! Can't wait to see you online! Register to attend at peppershock.com/events. This is an online event. Use promo code BEN30 to receive 30% off admission.
X-ALT-DESC;FMTTYPE=text/html:Industry expert Rhea Allen reviews the top 20 marketing trends\, insights and predictions for 2017 at this exclusive webinar. What are you missing in your 2017 marketing plan? Are you measuring the right numbers? Prioritizing effectively? Whatever your marketing goal\, whether it be to increase sales or just increase brand awareness\, fill in the pieces in this insightful webinar. Not even sure what to focus on? Let us help get you on track fast! Can&#39\;t wait to see you online! Register to attend at peppershock.com/events. This is an online event. Use promo code BEN30 to receive 30% off admission.
LOCATION:Online event. A webinar room link will be emailed to you the week of the event.
UID:e.2335.2071
SEQUENCE:3
DTSTAMP:20260421T140551Z
URL:https://business.caldwellchamber.org/events/details/2017-marketing-trends-webinar-w-rhea-allen-2071
END:VEVENT

END:VCALENDAR
