BEGIN:VCALENDAR
VERSION:2.0
PRODID:-//ChamberMaster//Event Calendar 2.0//EN
METHOD:PUBLISH
X-PUBLISHED-TTL:P3D
REFRESH-INTERVAL:P3D
CALSCALE:GREGORIAN
BEGIN:VEVENT
DTSTART:20250207T230000Z
DTEND:20250208T220000Z
X-MICROSOFT-CDO-ALLDAYEVENT:FALSE
SUMMARY:2C Galentine's 2025
DESCRIPTION:Back for a 4th year\, 2CG 2025 brings vendors\, food and drinks together for the ultimate indoor shopping experience!
X-ALT-DESC;FMTTYPE=text/html:Back for a 4th year\, 2CG 2025 brings vendors\, food and drinks together for the ultimate indoor shopping experience!
LOCATION:O'Connor Fieldhouse
UID:e.2335.6602
SEQUENCE:3
DTSTAMP:20260421T123049Z
URL:https://business.caldwellchamber.org/events/details/2c-galentine-s-2025-6602
END:VEVENT

END:VCALENDAR
