BEGIN:VCALENDAR
VERSION:2.0
PRODID:-//ChamberMaster//Event Calendar 2.0//EN
METHOD:PUBLISH
X-PUBLISHED-TTL:P3D
REFRESH-INTERVAL:P3D
CALSCALE:GREGORIAN
BEGIN:VEVENT
DTSTART:20190911T003000Z
DTEND:20190911T030000Z
X-MICROSOFT-CDO-ALLDAYEVENT:FALSE
SUMMARY:2nd Annual Patriots Day BBQ & Membership Drive
DESCRIPTION:Canyon County Republican Women are holding their 2nd Annual Patriots Day BBQ & Membership Drive.  It is hosted by Senator Patti Anne Lodge at her home at 18500 Symm's Road\, Caldwell\, Idaho.  The event begins at 6:30PM.  This replaces our noon meeting at the Golden Palace Restaurant.
X-ALT-DESC;FMTTYPE=text/html:<span style="color:black\;"><span style="font-size:12.0pt\;">Canyon County Republican Women are holding their 2nd Annual Patriots Day BBQ &amp\; Membership Drive.&nbsp\; It is hosted by Senator Patti Anne Lodge at her home at 18500 Symm&#39\;s Road\, Caldwell\, Idaho.&nbsp\; The event begins at 6:30PM.&nbsp\; This replaces our noon meeting at the Golden Palace Restaurant.</span></span>
LOCATION:18500 Symm's Road Caldwell\, ID
UID:e.2335.5379
SEQUENCE:3
DTSTAMP:20260423T192300Z
URL:https://business.caldwellchamber.org/events/details/2nd-annual-patriots-day-bbq-membership-drive-5379
END:VEVENT

END:VCALENDAR
