BEGIN:VCALENDAR
VERSION:2.0
PRODID:-//ChamberMaster//Event Calendar 2.0//EN
METHOD:PUBLISH
X-PUBLISHED-TTL:P3D
REFRESH-INTERVAL:P3D
CALSCALE:GREGORIAN
BEGIN:VEVENT
DTSTART:20190713T170000Z
DTEND:20190713T210000Z
X-MICROSOFT-CDO-ALLDAYEVENT:FALSE
SUMMARY:2nd Annual Plaza Palooza!
DESCRIPTION:For this special celebration\, the Plaza will be the coolest place in the Treasure Valley\, literally. The Plaza will be transformed into your summer oasis. Come play in our splash pads & fountains\, wade into water games\, and grab a cool\, refreshing drink or a locally made frozen treat. And\, of course\, it wouldn't be a palooza without phenomenal live music and entertainment to capture the heart of the child that lives within all of us!
X-ALT-DESC;FMTTYPE=text/html:For this special celebration\, the Plaza will be the coolest place in the Treasure Valley\, literally. The Plaza will be transformed into your summer oasis. Come play in our splash pads &amp\; fountains\, wade into water games\, and grab a cool\, refreshing drink or a locally made frozen treat. And\, of course\, it wouldn&rsquo\;t be a palooza without phenomenal live music and entertainment to capture the heart of the child that lives within all of us!
LOCATION:Indian Creek Plaza 120 S Kimball Ave Caldwell\, ID 83605
UID:e.2335.5099
SEQUENCE:3
DTSTAMP:20260423T180629Z
URL:https://business.caldwellchamber.org/events/details/2nd-annual-plaza-palooza-5099
END:VEVENT

END:VCALENDAR
