BEGIN:VCALENDAR
VERSION:2.0
PRODID:-//ChamberMaster//Event Calendar 2.0//EN
METHOD:PUBLISH
X-PUBLISHED-TTL:P3D
REFRESH-INTERVAL:P3D
CALSCALE:GREGORIAN
BEGIN:VEVENT
DTSTART:20161028T230000Z
DTEND:20161029T020000Z
X-MICROSOFT-CDO-ALLDAYEVENT:FALSE
SUMMARY:6th Annual Trunk-or-Treat
DESCRIPTION:Come join us for Stevens-Henager College's 6th annual trunk-or-treat. Safe\, family friendly place for children to trick-or-treat. Visit the Stevens-Henager Admissions booth to sign up for our raffle.
X-ALT-DESC;FMTTYPE=text/html:Come join us for Stevens-Henager College&#39\;s 6th annual trunk-or-treat. Safe\, family friendly place for children to trick-or-treat. Visit the Stevens-Henager Admissions booth to sign up for our raffle.
LOCATION:16819 N Marketplace Blvd. Nampa\, ID 83687
UID:e.2335.2029
SEQUENCE:3
DTSTAMP:20260421T135458Z
URL:https://business.caldwellchamber.org/events/details/6th-annual-trunk-or-treat-2029
END:VEVENT

END:VCALENDAR
