BEGIN:VCALENDAR
VERSION:2.0
PRODID:-//ChamberMaster//Event Calendar 2.0//EN
METHOD:PUBLISH
X-PUBLISHED-TTL:P3D
REFRESH-INTERVAL:P3D
CALSCALE:GREGORIAN
BEGIN:VEVENT
DTSTART:20190912T003000Z
DTEND:20190912T013000Z
X-MICROSOFT-CDO-ALLDAYEVENT:FALSE
SUMMARY:A Night of Poetry
DESCRIPTION:Join us for a night of poetry! College of Idaho professor\, Diane Raptosh\, will read from her books of poetry. Her latest book of poetry will be released in 2020.
X-ALT-DESC;FMTTYPE=text/html:Join us for a night of poetry! College of Idaho professor\, Diane Raptosh\, will read from her books of poetry. Her latest book of poetry will be released in 2020.
LOCATION:Caldwell Public Library 1010 Dearborn Street\; Caldwell\, ID 83605
UID:e.2335.5397
SEQUENCE:3
DTSTAMP:20260423T192214Z
URL:https://business.caldwellchamber.org/events/details/a-night-of-poetry-5397
END:VEVENT

END:VCALENDAR
