BEGIN:VCALENDAR
VERSION:2.0
PRODID:-//ChamberMaster//Event Calendar 2.0//EN
METHOD:PUBLISH
X-PUBLISHED-TTL:P3D
REFRESH-INTERVAL:P3D
CALSCALE:GREGORIAN
BEGIN:VEVENT
DTSTART:20180207T184500Z
DTEND:20180207T200000Z
X-MICROSOFT-CDO-ALLDAYEVENT:FALSE
SUMMARY:Agri-Business Committee Meeting
DESCRIPTION:Educates and sponsors activities at the Canyon County Fair\, selects the Farm Family of the Year recipient\, hosts Legislative tour once every 6 years\, provides crop signs and promotes and provides discussion of other agriculture issues.
X-ALT-DESC;FMTTYPE=text/html:Educates and sponsors activities at the Canyon County Fair\, selects the Farm Family of the Year recipient\, hosts&nbsp\;Legislative tour once every 6 years\, provides crop signs and promotes and provides discussion of other agriculture issues.
LOCATION:Stewart's Bar & Grill 2805 Blaine St\, Caldwell\, ID 83605
UID:e.2335.1102
SEQUENCE:3
DTSTAMP:20260422T105900Z
URL:https://business.caldwellchamber.org/events/details/agri-business-committee-meeting-02-07-2018-1102
END:VEVENT

END:VCALENDAR
