BEGIN:VCALENDAR
VERSION:2.0
PRODID:-//ChamberMaster//Event Calendar 2.0//EN
METHOD:PUBLISH
X-PUBLISHED-TTL:P3D
REFRESH-INTERVAL:P3D
CALSCALE:GREGORIAN
BEGIN:VEVENT
DTSTART:20170906T150000Z
DTEND:20170906T230000Z
X-MICROSOFT-CDO-ALLDAYEVENT:FALSE
SUMMARY:Agri-Business Media Tour
DESCRIPTION:Farm tour set for Idaho elected officials and media.\n\nMembers of the media and state and local elected officials will be given a crash course in agriculture September 6 during a day long tour of farm country in Idaho's Treasure Valley
X-ALT-DESC;FMTTYPE=text/html:Farm tour set for Idaho elected officials and media.<br />\nMembers of the media and state and local elected officials will be given a crash course in agriculture September 6 during a day long tour of farm country in Idaho&#39\;s Treasure Valley
LOCATION:
UID:e.2335.2738
SEQUENCE:3
DTSTAMP:20260422T031832Z
URL:https://business.caldwellchamber.org/events/details/agri-business-media-tour-2738
END:VEVENT

END:VCALENDAR
