BEGIN:VCALENDAR
VERSION:2.0
PRODID:-//ChamberMaster//Event Calendar 2.0//EN
METHOD:PUBLISH
X-PUBLISHED-TTL:P3D
REFRESH-INTERVAL:P3D
CALSCALE:GREGORIAN
BEGIN:VEVENT
DTSTART:20161210T023000Z
DTEND:20161210T043000Z
X-MICROSOFT-CDO-ALLDAYEVENT:FALSE
SUMMARY:All Is Calm: The Christmas Truce of 1914
DESCRIPTION:Mankind at its worst\; mankind at its best. Even after a century has passed\, the events that happened on the first Christmas of the World War I seem almost surreal. Soldiers from both sides came out of their trenches and celebrated the holiday together. This accapella musical explores that event through the actual letters and songs of the men who lived it.
X-ALT-DESC;FMTTYPE=text/html:Mankind at its worst\; mankind at its best. Even after a century has passed\, the events that happened on the first Christmas of the World War I seem almost surreal. Soldiers from both sides came out of their trenches and celebrated the holiday together. This accapella musical explores that event through the actual letters and songs of the men who lived it.
LOCATION:Northwest Nazarene University Little Theater 512 Holly St.\, Nampa 83686
UID:e.2335.2042
SEQUENCE:3
DTSTAMP:20260421T113255Z
URL:https://business.caldwellchamber.org/events/details/all-is-calm-the-christmas-truce-of-1914-2042
END:VEVENT

END:VCALENDAR
