BEGIN:VCALENDAR
VERSION:2.0
PRODID:-//ChamberMaster//Event Calendar 2.0//EN
METHOD:PUBLISH
X-PUBLISHED-TTL:P3D
REFRESH-INTERVAL:P3D
CALSCALE:GREGORIAN
BEGIN:VEVENT
DTSTART:20180222T163000Z
DTEND:20180223T000000Z
X-MICROSOFT-CDO-ALLDAYEVENT:FALSE
SUMMARY:Alzheimer's Association Advocacy Day
DESCRIPTION:Add your voice to fight against Alzheimer's by volunteering to speak with our elected officials on the need to fight this terrible disease. Please register by 2/14/18 at http://bit.ly/2018AdvocacyDayRSV
X-ALT-DESC;FMTTYPE=text/html:Add your voice to fight against Alzheimer&#39\;s by volunteering to speak with our elected officials on the need to fight this terrible disease. Please register by 2/14/18 at http://bit.ly/2018AdvocacyDayRSV
LOCATION:C. W. More Plaza Building 250 S. 5th St. Boise\, ID
UID:e.2335.2985
SEQUENCE:3
DTSTAMP:20260422T105747Z
URL:https://business.caldwellchamber.org/events/details/alzheimer-s-association-advocacy-day-2985
END:VEVENT

END:VCALENDAR
