BEGIN:VCALENDAR
VERSION:2.0
PRODID:-//ChamberMaster//Event Calendar 2.0//EN
METHOD:PUBLISH
X-PUBLISHED-TTL:P3D
REFRESH-INTERVAL:P3D
CALSCALE:GREGORIAN
BEGIN:VEVENT
DTSTART:20180607T180000Z
DTEND:20180610T180000Z
X-MICROSOFT-CDO-ALLDAYEVENT:FALSE
SUMMARY:AMF Internal Medicine Conference in Washington | Primary Care CME Confernece in Washington 2018 | AMF CME 2018 | AAFP Medical Conferences in Washington 2018 | AAFP CME Washington 2018 | AMF Medical CME in Washington | eMedEvents
DESCRIPTION:AMF CME & AAFP CME Course Washington 2018 - Internal Medicine and Primary Care is organized by American Medical Forum (AMF) and will be held during Jun 07 - 10\, 2018 at Washington Plaza Hotel\, Washington\, Dist of Col\, USA. Earn 30 ABIM MOC Points\, 30 AMA PRA Category 1 Credits\, 30 AAFP Prescribed / Live Credits.
X-ALT-DESC;FMTTYPE=text/html:AMF CME &amp\; AAFP CME Course Washington 2018 - Internal Medicine and Primary Care is organized by American Medical Forum (AMF) and will be held during Jun 07 - 10\, 2018 at Washington Plaza Hotel\, Washington\, Dist of Col\, USA. Earn 30 ABIM MOC Points\, 30 AMA PRA Category 1 Credits\, 30 AAFP Prescribed / Live Credits.
LOCATION:Washington Plaza Hotel 10 Thomas Circle Northwest\, Washington\, Dist Of Col\, United States Of America
UID:e.2335.3417
SEQUENCE:3
DTSTAMP:20260422T215134Z
URL:https://business.caldwellchamber.org/events/details/amf-internal-medicine-conference-in-washington-primary-care-cme-confernece-in-washington-2018-amf-cme-2018-aafp-medical-conferences-in-washington-2018-aafp-cme-washington-2018-amf-medical-cme-in-washington-emedevents-06-07-2018-3417
END:VEVENT

END:VCALENDAR
