BEGIN:VCALENDAR
VERSION:2.0
PRODID:-//ChamberMaster//Event Calendar 2.0//EN
METHOD:PUBLISH
X-PUBLISHED-TTL:P3D
REFRESH-INTERVAL:P3D
CALSCALE:GREGORIAN
BEGIN:VEVENT
DTSTART:20250308T020000Z
DTEND:20250308T050000Z
X-MICROSOFT-CDO-ALLDAYEVENT:FALSE
SUMMARY:Anna Han\, Classical Pianist
DESCRIPTION:Hailed by the Washington Post as "prodigiously gifted  a display of imagination\, taste and pianistic firepower far beyond her years\," American pianist Anna Han delivers heartfelt performances through a variety of classical piano repertoire. Her accomplishments include winning second prize at the 2023 Naumburg International Piano Competition\, and first prize at the 2023 National Federation of Music Clubs Competition.
X-ALT-DESC;FMTTYPE=text/html:Hailed by the Washington Post as &ldquo\;prodigiously gifted&hellip\; a display of imagination\, taste and pianistic firepower far beyond her years\,&rdquo\; American pianist Anna Han delivers heartfelt performances through a variety of classical piano repertoire. Her accomplishments include winning second prize at the 2023 Naumburg International Piano Competition\, and first prize at the 2023 National Federation of Music Clubs Competition.
LOCATION:Jewett Auditorium\, College of IDaho
UID:e.2335.6603
SEQUENCE:3
DTSTAMP:20260421T140038Z
URL:https://business.caldwellchamber.org/events/details/anna-han-classical-pianist-6603
END:VEVENT

END:VCALENDAR
