BEGIN:VCALENDAR
VERSION:2.0
PRODID:-//ChamberMaster//Event Calendar 2.0//EN
METHOD:PUBLISH
X-PUBLISHED-TTL:P3D
REFRESH-INTERVAL:P3D
CALSCALE:GREGORIAN
BEGIN:VEVENT
DTSTART:20190924T003000Z
DTEND:20190924T020000Z
X-MICROSOFT-CDO-ALLDAYEVENT:FALSE
SUMMARY:Banned Books Film: The Giver
DESCRIPTION:In celebration of Banned Books Week\, join us for a screening of "The Giver" based on the book by Lois Lowry. Film is Rated PG-13 The Giver: Jonas (Brenton Thwaites) lives in a seemingly idyllic world of conformity and contentment. When he begins to spend time with The Giver (Jeff Bridges)\, an old man who is the sole keeper of the community's memories\, Jonas discovers the dangerous truths of his community's secret past. Armed with the power of knowledge\, Jonas realizes that he must escape from their world to protect himself and those he loves -- a challenge no one has ever completed successfully.
X-ALT-DESC;FMTTYPE=text/html:In celebration of Banned Books Week\, join us for a screening of &quot\;The Giver&quot\; based on the book by Lois Lowry. Film is Rated PG-13 The Giver: Jonas (Brenton Thwaites) lives in a seemingly idyllic world of conformity and contentment. When he begins to spend time with The Giver (Jeff Bridges)\, an old man who is the sole keeper of the community&#39\;s memories\, Jonas discovers the dangerous truths of his community&#39\;s secret past. Armed with the power of knowledge\, Jonas realizes that he must escape from their world to protect himself and those he loves -- a challenge no one has ever completed successfully.
LOCATION:Caldwell Public Library 1010 Dearborn Street\; Caldwell\, ID 83605
UID:e.2335.5399
SEQUENCE:3
DTSTAMP:20260423T192501Z
URL:https://business.caldwellchamber.org/events/details/banned-books-film-the-giver-5399
END:VEVENT

END:VCALENDAR
