BEGIN:VCALENDAR
VERSION:2.0
PRODID:-//ChamberMaster//Event Calendar 2.0//EN
METHOD:PUBLISH
X-PUBLISHED-TTL:P3D
REFRESH-INTERVAL:P3D
CALSCALE:GREGORIAN
BEGIN:VEVENT
DTSTART:20181020T220000Z
DTEND:20181021T040000Z
X-MICROSOFT-CDO-ALLDAYEVENT:FALSE
SUMMARY:Barktoberfest at the Powderhaus Brewing Company
DESCRIPTION:Barktoberfest is fantastic fun for a great cause starting with a silent auction from 5-8 PM during which Powderhaus Brewing Company will donate part of the beer sales proceeds to West Valley Humane Society. Live music from Fall Creek String Band\, delicious food from the Meshico food truck from 4-8 PM\, and wonderful dogs for adoption. Admission is free and this is a dog-friendly event.
X-ALT-DESC;FMTTYPE=text/html:Barktoberfest is fantastic fun for a great cause starting with a silent auction from 5-8 PM during which Powderhaus Brewing Company will donate part of the beer sales proceeds to West Valley Humane Society. Live music from Fall Creek String Band\, delicious food from the Meshico food truck from 4-8 PM\, and wonderful dogs for adoption. Admission is free and this is a dog-friendly event.
LOCATION:Powderhaus Brewing Company 9719 W Chinden Blvd Garden City\, ID 83714
UID:e.2335.4346
SEQUENCE:3
DTSTAMP:20260423T043403Z
URL:https://business.caldwellchamber.org/events/details/barktoberfest-at-the-powderhaus-brewing-company-4346
END:VEVENT

END:VCALENDAR
