BEGIN:VCALENDAR
VERSION:2.0
PRODID:-//ChamberMaster//Event Calendar 2.0//EN
METHOD:PUBLISH
X-PUBLISHED-TTL:P3D
REFRESH-INTERVAL:P3D
CALSCALE:GREGORIAN
BEGIN:VEVENT
DTSTART:20170924T000000Z
DTEND:20170924T050000Z
X-MICROSOFT-CDO-ALLDAYEVENT:FALSE
SUMMARY:Battle Of The Bulls Year End Finals
DESCRIPTION:Bull riders come to battle it out with some of the toughest bulls around. This a family & kid friendly event. Enter to win half a pig cut & wrapped $10 for 1 ticket or $25 for 3.
X-ALT-DESC;FMTTYPE=text/html:Bull riders come to battle it out with some of the toughest bulls around. This a family &amp\; kid friendly event. Enter to win half a pig cut &amp\; wrapped $10 for 1 ticket or $25 for 3.
LOCATION:Caldwell Night Rodeo Grounds
UID:e.2335.2791
SEQUENCE:3
DTSTAMP:20260422T045951Z
URL:https://business.caldwellchamber.org/events/details/battle-of-the-bulls-year-end-finals-2791
END:VEVENT

END:VCALENDAR
