BEGIN:VCALENDAR
VERSION:2.0
PRODID:-//ChamberMaster//Event Calendar 2.0//EN
METHOD:PUBLISH
X-PUBLISHED-TTL:P3D
REFRESH-INTERVAL:P3D
CALSCALE:GREGORIAN
BEGIN:VEVENT
DTSTART;VALUE=DATE:20170705
DTEND;VALUE=DATE:20170815
TRANSP:TRANSPARENT
X-MICROSOFT-CDO-ALLDAYEVENT:TRUE
SUMMARY:Better Business Bureau's 2017 Torch Awards
DESCRIPTION:Better Business Bureau's annual Torch Awards honor businesses\, individuals and charities that demonstrate excellence in the marketplace. This awards program provides the opportunity to spotlight those doing great things in furthering marketplace trust and integrity. Categories include: Business of the Year\, Charity of the Year and Exceptional Employee Award. Nominate your business: go.bbb.org/nw-2017TorchAwards by August 14th\, 2017.
X-ALT-DESC;FMTTYPE=text/html:Better Business Bureau&rsquo\;s annual Torch Awards honor businesses\, individuals and charities that demonstrate excellence in the marketplace. This awards program provides the opportunity to spotlight those doing great things in furthering marketplace trust and integrity. Categories include: Business of the Year\, Charity of the Year and Exceptional Employee Award. Nominate your business: go.bbb.org/nw-2017TorchAwards by August 14th\, 2017.
LOCATION:
UID:e.2335.2746
SEQUENCE:3
DTSTAMP:20260421T234310Z
URL:https://business.caldwellchamber.org/events/details/better-business-bureau-s-2017-torch-awards-2746
END:VEVENT

END:VCALENDAR
