BEGIN:VCALENDAR
VERSION:2.0
PRODID:-//ChamberMaster//Event Calendar 2.0//EN
METHOD:PUBLISH
X-PUBLISHED-TTL:P3D
REFRESH-INTERVAL:P3D
CALSCALE:GREGORIAN
BEGIN:VEVENT
DTSTART:20171130T000000Z
DTEND:20171130T020000Z
X-MICROSOFT-CDO-ALLDAYEVENT:FALSE
SUMMARY:Bilingual FAFSA Night!
DESCRIPTION:Need help completing your FAFSA? Just want to get started on the process or have a lot of questions? Please stop by anytime between 5-7 p.m. to visit with Boise State University and College of Western Idaho representatives and get your questions answered! Event is in the Nampa Campus Academic Building\, Room 205.\n\n\n\n Se Habla Espa ol!  Necesita ayuda para completar su FAFSA?  Necesita comenzar el proceso o tiene algunas preguntas? Los invitamos a nuestro evento de completar la FAFSA. El evento ser  de 5:00-7:00 p.m.. Tendremos representantes de Boise State University y College of Western Idaho disponibles para ayudarles y contestar sus preguntas. El evento estar  en Nampa Campus Academic Building\, Sal n 205.
X-ALT-DESC;FMTTYPE=text/html:Need help completing your FAFSA? Just want to get started on the process or have a lot of questions? Please stop by anytime between 5-7 p.m. to visit with Boise State University and College of Western Idaho representatives and get your questions answered! Event is in the Nampa Campus Academic Building\, Room 205.<br />\n<br />\n&iexcl\;Se Habla Espa&ntilde\;ol! &iquest\;Necesita ayuda para completar su FAFSA? &iquest\;Necesita comenzar el proceso o tiene algunas preguntas? Los invitamos a nuestro evento de completar la FAFSA. El evento ser&aacute\; de 5:00-7:00 p.m.. Tendremos representantes de Boise State University y College of Western Idaho disponibles para ayudarles y contestar sus preguntas. El evento estar&aacute\; en Nampa Campus Academic Building\, Sal&oacute\;n 205.
LOCATION:College of Western Idaho Nampa Campus Academic Building Room 205 5500 E. Opportunity Drive Nampa\, ID 83687
UID:e.2335.2945
SEQUENCE:3
DTSTAMP:20260422T061823Z
URL:https://business.caldwellchamber.org/events/details/bilingual-fafsa-night-2945
END:VEVENT

END:VCALENDAR
