BEGIN:VCALENDAR
VERSION:2.0
PRODID:-//ChamberMaster//Event Calendar 2.0//EN
METHOD:PUBLISH
X-PUBLISHED-TTL:P3D
REFRESH-INTERVAL:P3D
CALSCALE:GREGORIAN
BEGIN:VEVENT
DTSTART:20200124T170000Z
DTEND:20200124T230000Z
X-MICROSOFT-CDO-ALLDAYEVENT:FALSE
SUMMARY:Book Sale - Friends of the Caldwell Public Library
DESCRIPTION:Friends of the Caldwell Public Library will be hosting a winter book sale! Prices will vary. Come early for the best selection.
X-ALT-DESC;FMTTYPE=text/html:Friends of the Caldwell Public Library will be hosting a winter book sale! Prices will vary. Come early for the best selection.
LOCATION:Caldwell Public Library 1010 Dearborn Street Caldwell\, ID 83605
UID:e.2335.5481
SEQUENCE:3
DTSTAMP:20260424T012241Z
URL:https://business.caldwellchamber.org/events/details/book-sale-friends-of-the-caldwell-public-library-5481
END:VEVENT

END:VCALENDAR
