BEGIN:VCALENDAR
VERSION:2.0
PRODID:-//ChamberMaster//Event Calendar 2.0//EN
METHOD:PUBLISH
X-PUBLISHED-TTL:P3D
REFRESH-INTERVAL:P3D
CALSCALE:GREGORIAN
BEGIN:VEVENT
DTSTART:20171209T170000Z
DTEND:20171210T020000Z
X-MICROSOFT-CDO-ALLDAYEVENT:FALSE
SUMMARY:Boutique at the Creek
DESCRIPTION:Boutique at the Creek is an upscale holiday makers and boutique market in the heart of Winter Wonderland! Free admission! Live music! Enter the raffle to win big prizes and support a family in our community!
X-ALT-DESC;FMTTYPE=text/html:Boutique at the Creek is an upscale holiday makers and boutique market in the heart of Winter Wonderland! Free admission! Live music! Enter the raffle to win big prizes and support a family in our community!
LOCATION:523 Main st Caldwell id
UID:e.2335.2946
SEQUENCE:3
DTSTAMP:20260422T091259Z
URL:https://business.caldwellchamber.org/events/details/boutique-at-the-creek-2946
END:VEVENT

END:VCALENDAR
