BEGIN:VCALENDAR
VERSION:2.0
PRODID:-//ChamberMaster//Event Calendar 2.0//EN
METHOD:PUBLISH
X-PUBLISHED-TTL:P3D
REFRESH-INTERVAL:P3D
CALSCALE:GREGORIAN
BEGIN:VEVENT
DTSTART:20180809T223000Z
DTEND:20180810T003000Z
X-MICROSOFT-CDO-ALLDAYEVENT:FALSE
SUMMARY:Business After Hours at Indian Creek Steakhouse
DESCRIPTION:
X-ALT-DESC;FMTTYPE=text/html:
LOCATION:Indian Creek Steakhouse 711 Main St. Caldwell\, ID
UID:e.2335.2970
SEQUENCE:3
DTSTAMP:20260423T013517Z
URL:https://business.caldwellchamber.org/events/details/business-after-hours-at-indian-creek-steakhouse-2970
END:VEVENT

END:VCALENDAR
