BEGIN:VCALENDAR
VERSION:2.0
PRODID:-//ChamberMaster//Event Calendar 2.0//EN
METHOD:PUBLISH
X-PUBLISHED-TTL:P3D
REFRESH-INTERVAL:P3D
CALSCALE:GREGORIAN
BEGIN:VEVENT
DTSTART:20260521T230000Z
DTEND:20260522T010000Z
X-MICROSOFT-CDO-ALLDAYEVENT:FALSE
SUMMARY:Business After Hours Hosted by Koenig Distillery
DESCRIPTION:
X-ALT-DESC;FMTTYPE=text/html:
LOCATION:20928 Grape Lane\, Caldwell
UID:e.2335.7188
SEQUENCE:3
DTSTAMP:20260421T211837Z
URL:https://business.caldwellchamber.org/events/details/business-after-hours-hosted-by-koenig-distillery-7188
END:VEVENT

END:VCALENDAR
