BEGIN:VCALENDAR
VERSION:2.0
PRODID:-//ChamberMaster//Event Calendar 2.0//EN
METHOD:PUBLISH
X-PUBLISHED-TTL:P3D
REFRESH-INTERVAL:P3D
CALSCALE:GREGORIAN
BEGIN:VEVENT
DTSTART:20181018T103000Z
DTEND:20181019T003000Z
X-MICROSOFT-CDO-ALLDAYEVENT:FALSE
SUMMARY:Business After Hours: Prestige Assisted Living
DESCRIPTION:Business After Hours allows networking and community connection making over light refreshments and drinks after a long day of work.
X-ALT-DESC;FMTTYPE=text/html:Business After Hours allows networking and community connection making over light refreshments and drinks after a long day of work.
LOCATION:Prestige Assisted Living
UID:e.2335.4339
SEQUENCE:3
DTSTAMP:20260423T043105Z
URL:https://business.caldwellchamber.org/events/details/business-after-hours-prestige-assisted-living-4339
END:VEVENT

END:VCALENDAR
