BEGIN:VCALENDAR
VERSION:2.0
PRODID:-//ChamberMaster//Event Calendar 2.0//EN
METHOD:PUBLISH
X-PUBLISHED-TTL:P3D
REFRESH-INTERVAL:P3D
CALSCALE:GREGORIAN
BEGIN:VEVENT
DTSTART:20161208T143000Z
DTEND:20161208T183000Z
X-MICROSOFT-CDO-ALLDAYEVENT:FALSE
SUMMARY:Business Success Workshop - Marketing ROI
DESCRIPTION:Join us for an engaging workshop at the Idaho Department of Labor in Meridian at the "Lucky Peak" conference room. At this interactive workshop you will learn what you need to start\, stop and keep doing to yield the highest ROMI (Return on Marketing Investment). Speakers Rhea Allen and Melissa Callahan from Peppershock Media will help you focus in on the best marketing strategies and tactics for your organization. Author\, Nick Anderson\, from The Crispian Advantage\, will be speaking and instructing on the connection sales and marketing must develop in order to yield the highest possible ROMI. Walk away with a few new connections! There will be a structured networking event at the end. Breakfast and beverages will also be served\, so come hungry! More info at peppershock.com/events.
X-ALT-DESC;FMTTYPE=text/html:Join us for an engaging workshop at the Idaho Department of Labor in Meridian at the &quot\;Lucky Peak&quot\; conference room. At this interactive workshop you will learn what you need to start\, stop and keep doing to yield the highest ROMI (Return on Marketing Investment). Speakers Rhea Allen and Melissa Callahan from Peppershock Media will help you focus in on the best marketing strategies and tactics for your organization. Author\, Nick Anderson\, from The Crispian Advantage\, will be speaking and instructing on the connection sales and marketing must develop in order to yield the highest possible ROMI. Walk away with a few new connections! There will be a structured networking event at the end. Breakfast and beverages will also be served\, so come hungry! More info at peppershock.com/events.
LOCATION:Idaho Department of Labor (Lucky Peak Conference Room) 1090 East Waterpower Lane #100 Meridian\, ID 83642
UID:e.2335.2045
SEQUENCE:3
DTSTAMP:20260421T124108Z
URL:https://business.caldwellchamber.org/events/details/business-success-workshop-marketing-roi-2045
END:VEVENT

END:VCALENDAR
