BEGIN:VCALENDAR
VERSION:2.0
PRODID:-//ChamberMaster//Event Calendar 2.0//EN
METHOD:PUBLISH
X-PUBLISHED-TTL:P3D
REFRESH-INTERVAL:P3D
CALSCALE:GREGORIAN
BEGIN:VEVENT
DTSTART:20170531T210000Z
DTEND:20170601T010000Z
X-MICROSOFT-CDO-ALLDAYEVENT:FALSE
SUMMARY:Caldwell Farmers Market
DESCRIPTION:More information soon!
X-ALT-DESC;FMTTYPE=text/html:More information soon!
LOCATION:
UID:e.2335.2320
SEQUENCE:3
DTSTAMP:20260421T203630Z
URL:https://business.caldwellchamber.org/events/details/caldwell-farmers-market-05-31-2017-2320
END:VEVENT

END:VCALENDAR
