BEGIN:VCALENDAR
VERSION:2.0
PRODID:-//ChamberMaster//Event Calendar 2.0//EN
METHOD:PUBLISH
X-PUBLISHED-TTL:P3D
REFRESH-INTERVAL:P3D
CALSCALE:GREGORIAN
BEGIN:VEVENT
DTSTART:20260422T150000Z
DTEND:20260422T200000Z
X-MICROSOFT-CDO-ALLDAYEVENT:FALSE
SUMMARY:Caldwell Health & Resource Fair
DESCRIPTION:Molina Healthcare of Idaho is partnering with the Idaho Living Independence Network (LINC) to host the Caldwell Health & Resource Fair\, a free\, one day event connecting local individuals and families with essential health and community services. The event will offer a range of no cost resources\, including mobility equipment repairs provided by LINC\, haircuts\, mammogram screenings\, veterinary services\, and access to food trucks. The fair is designed to reduce barriers to care by bringing multiple services together in a single\, accessible location. The Caldwell Health & Resource Fair is a longstanding community event serving residents of all ages\, with dedicated resources for seniors\, veterans\, people with disabilities\, caregivers\, job seekers\, and those seeking housing or social support.
X-ALT-DESC;FMTTYPE=text/html:Molina Healthcare of Idaho is partnering with the Idaho Living Independence Network (LINC) to host the Caldwell Health &amp\; Resource Fair\, a free\, one day event connecting local individuals and families with essential health and community services. The event will offer a range of no cost resources\, including mobility equipment repairs provided by LINC\, haircuts\, mammogram screenings\, veterinary services\, and access to food trucks. The fair is designed to reduce barriers to care by bringing multiple services together in a single\, accessible location. The Caldwell Health &amp\; Resource Fair is a longstanding community event serving residents of all ages\, with dedicated resources for seniors\, veterans\, people with disabilities\, caregivers\, job seekers\, and those seeking housing or social support.
LOCATION:O'Connor Field House\, 2207 Blaine St.\, Caldwell\, ID 83605
UID:e.2335.7183
SEQUENCE:3
DTSTAMP:20260420T182246Z
URL:https://business.caldwellchamber.org/events/details/caldwell-health-resource-fair-7183
END:VEVENT

END:VCALENDAR
