BEGIN:VCALENDAR
VERSION:2.0
PRODID:-//ChamberMaster//Event Calendar 2.0//EN
METHOD:PUBLISH
X-PUBLISHED-TTL:P3D
REFRESH-INTERVAL:P3D
CALSCALE:GREGORIAN
BEGIN:VEVENT
DTSTART:20180817T003000Z
DTEND:20180817T040000Z
X-MICROSOFT-CDO-ALLDAYEVENT:FALSE
SUMMARY:Caldwell Night Rodeo
DESCRIPTION:Caldwell Night Rodeo\n\n"Where the cowboys are the stars"
X-ALT-DESC;FMTTYPE=text/html:Caldwell Night Rodeo<br />\n&quot\;Where the cowboys are the stars&quot\;
LOCATION:Caldwell Rodeo grounds
UID:e.2335.4334
SEQUENCE:3
DTSTAMP:20260423T025051Z
URL:https://business.caldwellchamber.org/events/details/caldwell-night-rodeo-08-16-2018-4334
END:VEVENT

END:VCALENDAR
