BEGIN:VCALENDAR
VERSION:2.0
PRODID:-//ChamberMaster//Event Calendar 2.0//EN
METHOD:PUBLISH
X-PUBLISHED-TTL:P3D
REFRESH-INTERVAL:P3D
CALSCALE:GREGORIAN
BEGIN:VEVENT
DTSTART:20170815T230000Z
DTEND:20170815T230000Z
X-MICROSOFT-CDO-ALLDAYEVENT:FALSE
SUMMARY:Caldwell Night Rodeo/YMCA Round UP/Junior Rodeo/Rodeo
DESCRIPTION:Little Buckaroos can learn all about the sport of rodeo in true western fashion at the YMCA Round Up\, Tuesday August 15th from 5:00pm-6:30pm at Gabiola Field (adjacent next to the rodeo grounds and football stadium).\n\nAt this FREE event\, junior cowboys and cowgirls alike will enjoy obstacle courses while dodging imaginary cow pies\, lassoing a calf and a train ride around the field on a cart pulled by Personal Ponies.\n\n\n\nCome support our "professional rodeo athletes of the future" as the top 20 junior qualifiers from the Canyon County Fair compete in the Junior Rodeo Finals nightly at CNR\, Tuesday- Saturday at 6:30pm. \n\n\n\nA fan favorite at CNR\, Junior Steer Riding follows the Junior Rodeo and features mini cowboys and cowgirls 7-10 years of age riding steers weighing between 500-1\,000 pounds.
X-ALT-DESC;FMTTYPE=text/html:<p style="margin-bottom: 0px\; color: rgb(49\, 49\, 49)\; font-family: open_sansregular\, Arial\, Verdana\, sans-serif\; font-size: 12px\;">Little Buckaroos can learn all about the sport of rodeo in true western fashion at the YMCA Round Up\, Tuesday August 15<sup>th</sup>&nbsp\;from 5:00pm-6:30pm at Gabiola Field (adjacent next to the rodeo grounds and football stadium).</p>\n\n<p style="margin-bottom: 0px\; color: rgb(49\, 49\, 49)\; font-family: open_sansregular\, Arial\, Verdana\, sans-serif\; font-size: 12px\;">At this FREE event\, junior cowboys and cowgirls alike will enjoy obstacle courses while dodging imaginary cow pies\, lassoing a calf and a train ride around the field on a cart pulled by Personal Ponies.<br />\n<br />\n<span style="color: rgb(49\, 49\, 49)\; font-family: open_sansregular\, Arial\, Verdana\, sans-serif\; font-size: 12px\;">Come support our &quot\;professional rodeo athletes of the future&quot\; as the top 20 junior qualifiers from the Canyon County Fair compete in the Junior Rodeo Finals nightly at CNR\, Tuesday- Saturday at 6:30pm.&nbsp\;<br />\n<br />\nA fan favorite at CNR\, Junior Steer Riding follows the Junior Rodeo and features mini cowboys and cowgirls 7-10 years of age riding steers weighing between 500-1\,000 pounds.</span></p>\n
LOCATION:Caldwell Night Rodeo
UID:e.2335.2771
SEQUENCE:3
DTSTAMP:20260422T012919Z
URL:https://business.caldwellchamber.org/events/details/caldwell-night-rodeo-ymca-round-up-junior-rodeo-rodeo-2771
END:VEVENT

END:VCALENDAR
