BEGIN:VCALENDAR
VERSION:2.0
PRODID:-//ChamberMaster//Event Calendar 2.0//EN
METHOD:PUBLISH
X-PUBLISHED-TTL:P3D
REFRESH-INTERVAL:P3D
CALSCALE:GREGORIAN
BEGIN:VEVENT
DTSTART:20170124T183000Z
DTEND:20170124T200000Z
X-MICROSOFT-CDO-ALLDAYEVENT:FALSE
SUMMARY:Canyon County Historical Society General Meeting
DESCRIPTION:The program will be presented by John Bieter.  John is an associate professor at Boise State University where he is the Director of Basque Studies.  He will be presenting a program on the history of Basques in Idaho\; to include the Immigrant Generation\, 1890-1920's\, Basque-American\, 1920-1949 and Basque-American\, 1950 to present.  Besides this interesting program we will be electing members to our Board of Directors.  This is the most important program of the year.
X-ALT-DESC;FMTTYPE=text/html:The program will be presented by John Bieter. &nbsp\;John is an associate professor at Boise State University where he is the Director of Basque Studies. &nbsp\;He will be presenting a program on the history of Basques in Idaho\; to include the Immigrant Generation\, 1890-1920&#39\;s\, Basque-American\, 1920-1949 and Basque-American\, 1950 to present. &nbsp\;Besides this interesting program we will be electing members to our Board of Directors. &nbsp\;This is the most important program of the year.
LOCATION:Grace Episcopal Church 411 10th Avenue South Nampa\, ID
UID:e.2335.2227
SEQUENCE:3
DTSTAMP:20260421T141818Z
URL:https://business.caldwellchamber.org/events/details/canyon-county-historical-society-general-meeting-2227
END:VEVENT

END:VCALENDAR
