BEGIN:VCALENDAR
VERSION:2.0
PRODID:-//ChamberMaster//Event Calendar 2.0//EN
METHOD:PUBLISH
X-PUBLISHED-TTL:P3D
REFRESH-INTERVAL:P3D
CALSCALE:GREGORIAN
BEGIN:VEVENT
DTSTART:20161210T010000Z
DTEND:20170102T050000Z
X-MICROSOFT-CDO-ALLDAYEVENT:FALSE
SUMMARY:Christmas Light Helicopter Tours
DESCRIPTION:Behold The Spectacle Of The Treasure Valley Christmas Lights From Above With A Helicopter Flight Package From Silverhawk Aviation Academy. Destinations Include Caldwell's "Winter Wonderland" Light Show Along Indian Creek\, "The Villages" Light Show In Meridian\, And The Idaho Botanical Garden's "Winter Garden Aglow" In Downtown Boise. Certified Pilots Are Flying Passengers Now Through January First Out Of Caldwell Airport. Reserve Your Space Today!
X-ALT-DESC;FMTTYPE=text/html:Behold The Spectacle Of The Treasure Valley Christmas Lights From Above With A Helicopter Flight Package From Silverhawk Aviation Academy. Destinations Include Caldwell&#39\;s &quot\;Winter Wonderland&quot\; Light Show Along Indian Creek\, &quot\;The Villages&quot\; Light Show In Meridian\, And The Idaho Botanical Garden&#39\;s &quot\;Winter Garden Aglow&quot\; In Downtown Boise. Certified Pilots Are Flying Passengers Now Through January First Out Of Caldwell Airport. Reserve Your Space Today!
LOCATION:Caldwell Airport - Silverhawk Aviation Academy
UID:e.2335.2059
SEQUENCE:3
DTSTAMP:20260421T112215Z
URL:https://business.caldwellchamber.org/events/details/christmas-light-helicopter-tours-2059
END:VEVENT

END:VCALENDAR
