BEGIN:VCALENDAR
VERSION:2.0
PRODID:-//ChamberMaster//Event Calendar 2.0//EN
METHOD:PUBLISH
X-PUBLISHED-TTL:P3D
REFRESH-INTERVAL:P3D
CALSCALE:GREGORIAN
BEGIN:VEVENT
DTSTART;VALUE=DATE:20190902
DTEND;VALUE=DATE:20190903
TRANSP:TRANSPARENT
X-MICROSOFT-CDO-ALLDAYEVENT:TRUE
SUMMARY:CLOSED - Caldwell Chamber of Commerce observing Labor Day
DESCRIPTION:
X-ALT-DESC;FMTTYPE=text/html:
LOCATION:
UID:e.2335.5384
SEQUENCE:3
DTSTAMP:20260423T192403Z
URL:https://business.caldwellchamber.org/events/details/closed-caldwell-chamber-of-commerce-observing-labor-day-5384
END:VEVENT

END:VCALENDAR
